BEGIN:VCALENDAR
PRODID:-//punkave//apostrophe 1.x//EN
VERSION:1.0
TZ:0
BEGIN:VEVENT
CATEGORIES:MEETING
DTSTART:20110223T223000Z
DTEND:20110223T233000Z
DTSTAMP:20101026T040000Z
SUMMARY:Applying to First Grade
DESCRIPTION:Parent Education night with a panel that helps next year\'s K parents look to applying for First Grade.
LOCATION:
UID:171
END:VEVENT
END:VCALENDAR