BEGIN:VCALENDAR
PRODID:-//punkave//apostrophe 1.x//EN
VERSION:1.0
TZ:0
BEGIN:VEVENT
CATEGORIES:MEETING
DTSTART:20110225T050000Z
DTEND:20110316T165959Z
DTSTAMP:20110225T050000Z
SUMMARY:GTS Online Auction Website Updated!
DESCRIPTION:We are happy to announce the opening of the 2011 Greene Towne School Online Auction, which is open February 25 and closes March 14, 2011. You may visit the Online Auction at www.biddingforgood.com/greenetowne.
LOCATION:
UID:396
END:VEVENT
END:VCALENDAR