BEGIN:VCALENDAR
PRODID:-//punkave//apostrophe 1.x//EN
VERSION:1.0
TZ:0
BEGIN:VEVENT
CATEGORIES:MEETING
DTSTART:20110301T131500Z
DTEND:20110301T140000Z
DTSTAMP:20101026T040000Z
SUMMARY:Coffee with Jennifer Coulter
DESCRIPTION:Come enjoy coffee and refreshments with Jennifer Coulter!
LOCATION:
UID:172
END:VEVENT
END:VCALENDAR