BEGIN:VCALENDAR
PRODID:-//punkave//apostrophe 1.x//EN
VERSION:1.0
TZ:0
BEGIN:VEVENT
CATEGORIES:MEETING
DTSTART:20110303T131500Z
DTEND:20110303T140000Z
DTSTAMP:20101026T040000Z
SUMMARY:Coffee with Michelle Pysher
DESCRIPTION:Come enjoy coffee and refreshments with Michelle Pysher!
LOCATION:
UID:173
END:VEVENT
END:VCALENDAR