BEGIN:VCALENDAR
PRODID:-//punkave//apostrophe 1.x//EN
VERSION:1.0
TZ:0
BEGIN:VEVENT
CATEGORIES:MEETING
DTSTART:20110304T230000Z
DTEND:20110305T030000Z
DTSTAMP:20101026T040000Z
SUMMARY:Greene Towne School Annual Auction
DESCRIPTION:6pm at the College of Physicians, 19 S 22nd St,Philadelphia, PA 19103-3001 (Between Chestnut and Market).
LOCATION:
UID:174
END:VEVENT
END:VCALENDAR