BEGIN:VCALENDAR
PRODID:-//punkave//apostrophe 1.x//EN
VERSION:1.0
TZ:0
BEGIN:VEVENT
CATEGORIES:MEETING
DTSTART:20110304T163000Z
DTEND:20110304T173000Z
DTSTAMP:20110302T050000Z
SUMMARY:Lunch Around the World: Irish
DESCRIPTION:
LOCATION:
UID:405
END:VEVENT
END:VCALENDAR