BEGIN:VCALENDAR
PRODID:-//punkave//apostrophe 1.x//EN
VERSION:1.0
TZ:0
BEGIN:VEVENT
CATEGORIES:MEETING
DTSTART:20110314T220000Z
DTEND:20110315T000000Z
DTSTAMP:20101027T040000Z
SUMMARY:Strategic Planning Meeting
DESCRIPTION:Board meeting canceled this evening because of strategic planning session.
LOCATION:
UID:180
END:VEVENT
END:VCALENDAR