BEGIN:VCALENDAR
PRODID:-//punkave//apostrophe 1.x//EN
VERSION:1.0
TZ:0
BEGIN:VEVENT
CATEGORIES:MEETING
DTSTART:20110317T121500Z
DTEND:20110317T130000Z
DTSTAMP:20101027T040000Z
SUMMARY:Coffee with Jean Prestas
DESCRIPTION:Come have coffee and refreshments with Jean Prestas! *rescheduled from 3/10
LOCATION:
UID:179
END:VEVENT
END:VCALENDAR