BEGIN:VCALENDAR
PRODID:-//punkave//apostrophe 1.x//EN
VERSION:1.0
TZ:0
BEGIN:VEVENT
CATEGORIES:MEETING
DTSTART:20110322T230000Z
DTEND:20110323T003000Z
DTSTAMP:20101029T040000Z
SUMMARY:Admissions Open House
DESCRIPTION:To rsvp to this parent-only evening, please call 215-563-6368.
LOCATION:
UID:196
END:VEVENT
END:VCALENDAR