BEGIN:VCALENDAR
PRODID:-//punkave//apostrophe 1.x//EN
VERSION:1.0
TZ:0
BEGIN:VEVENT
CATEGORIES:MEETING
DTSTART:20110325T153000Z
DTEND:20110325T160000Z
DTSTAMP:20101029T040000Z
SUMMARY:Staff In-Service: School Closes at 11:45
DESCRIPTION:No afternoon programs or child care available.
LOCATION:
UID:197
END:VEVENT
END:VCALENDAR