BEGIN:VCALENDAR
PRODID:-//punkave//apostrophe 1.x//EN
VERSION:1.0
TZ:0
BEGIN:VEVENT
CATEGORIES:MEETING
DTSTART:20110328T120000Z
DTEND:20110401T190000Z
DTSTAMP:20101102T040000Z
SUMMARY:Spring Break - School Closed
DESCRIPTION:School is closed Monday 3/28 through Friday, 4/1. Vacation care is available for families who have pre-registered. Care is open at 8:30 and closes at 5:30, Monday-Thursday. Care closes at 3pm on Friday.
LOCATION:
UID:214
END:VEVENT
END:VCALENDAR