BEGIN:VCALENDAR
PRODID:-//punkave//apostrophe 1.x//EN
VERSION:1.0
TZ:0
BEGIN:VEVENT
CATEGORIES:MEETING
DTSTART:20110328T160000Z
DTEND:20110401T180000Z
DTSTAMP:20110317T040000Z
SUMMARY:Subaru Cherry Blossom Festival Events at Liberty Place
DESCRIPTION:Monday, March 28 - Friday, April 1, 12:00 - 2:00 PM Liberty Place Rotunda 16th & Chestnut Philadelphia, PA 19103 Free A week of lunchtime events highlighting the best Japan has to offer. A special display highlighting the 25th Anniversary of the Philadelphia - Kobe Sister City relationship will be present throughout. Monday, March 28 - Origami - Learn about the traditional Japanese art of paper folding. Tuesday, March 29 - Calligraphy Wednesday, March 30 - Kimono Dressing - Come try on a kimono and learn about Japan\'s traditional fashions. Thursday, March 31 - Ikebana - Learn the tradition and beauty of Japanese flower arranging. Friday, April 1 - Martial Arts Demonstration
LOCATION:
UID:435
END:VEVENT
END:VCALENDAR