BEGIN:VCALENDAR
PRODID:-//punkave//apostrophe 1.x//EN
VERSION:1.0
TZ:0
BEGIN:VEVENT
CATEGORIES:MEETING
DTSTART:20110407T121500Z
DTEND:20110407T130000Z
DTSTAMP:20110211T050000Z
SUMMARY:First Thursday Coffee with Ms. Grady
DESCRIPTION:Every First Thursday of the month, discuss a new subject in a relaxed group forum with Helena Grady, Head of School! Maria Kaminstein will join Helena to talk about Montessori practices at home.
LOCATION:
UID:370
END:VEVENT
END:VCALENDAR