BEGIN:VCALENDAR
PRODID:-//punkave//apostrophe 1.x//EN
VERSION:1.0
TZ:0
BEGIN:VEVENT
CATEGORIES:MEETING
DTSTART:20110415T040000Z
DTEND:20110417T165959Z
DTSTAMP:20110211T050000Z
SUMMARY:School Closed:Parent-Teacher Conferences
DESCRIPTION:School closed all day for Parent - Teacher conferences. Limited vacation care available from 8am to 5:30pm -must sign up in advance. For care during conference only, you do not need to sign up for this free service.
LOCATION:
UID:373
END:VEVENT
END:VCALENDAR