BEGIN:VCALENDAR
PRODID:-//punkave//apostrophe 1.x//EN
VERSION:1.0
TZ:0
BEGIN:VEVENT
CATEGORIES:MEETING
DTSTART:20110417T040000Z
DTEND:20110425T165959Z
DTSTAMP:20110211T050000Z
SUMMARY:TV Turn Off Week!
DESCRIPTION:This week, try some different activities with your family - turn off the tv, computer, and phone!
LOCATION:
UID:374
END:VEVENT
END:VCALENDAR