BEGIN:VCALENDAR
PRODID:-//punkave//apostrophe 1.x//EN
VERSION:1.0
TZ:0
BEGIN:VEVENT
CATEGORIES:MEETING
DTSTART:20110421T040000Z
DTEND:20110423T165959Z
DTSTAMP:20110211T050000Z
SUMMARY:GTS Earth/Arbor Day Celebration
DESCRIPTION:Today is the day we celebrate Earth/Arbor Day in the Greene Towne way!
LOCATION:
UID:375
END:VEVENT
END:VCALENDAR