BEGIN:VCALENDAR
PRODID:-//punkave//apostrophe 1.x//EN
VERSION:1.0
TZ:0
BEGIN:VEVENT
CATEGORIES:MEETING
DTSTART:20110429T154500Z
DTEND:20110429T160000Z
DTSTAMP:20110211T050000Z
SUMMARY:School Closed at 11:45am: Staff In service
DESCRIPTION:School closes at 11:45 pm today - there are no afternoon programs or child care available.
LOCATION:
UID:376
END:VEVENT
END:VCALENDAR