BEGIN:VCALENDAR
PRODID:-//punkave//apostrophe 1.x//EN
VERSION:1.0
TZ:0
BEGIN:VEVENT
CATEGORIES:MEETING
DTSTART:20110506T040000Z
DTEND:20110508T165959Z
DTSTAMP:20110211T050000Z
SUMMARY:Grandparent and Special Friends Day
DESCRIPTION:Today is the day that Grandparents and/or Special Friends can be guests in the classroom.
LOCATION:
UID:378
END:VEVENT
END:VCALENDAR