BEGIN:VCALENDAR
PRODID:-//punkave//apostrophe 1.x//EN
VERSION:1.0
TZ:0
BEGIN:VEVENT
CATEGORIES:MEETING
DTSTART:20110509T230000Z
DTEND:20110510T010000Z
DTSTAMP:20110211T050000Z
SUMMARY:Board Meeting
DESCRIPTION:Board Meetings are always open to GTS Parents.
LOCATION:
UID:379
END:VEVENT
END:VCALENDAR