BEGIN:VCALENDAR
PRODID:-//punkave//apostrophe 1.x//EN
VERSION:1.0
TZ:0
BEGIN:VEVENT
CATEGORIES:MEETING
DTSTART:20110512T220000Z
DTEND:20110512T233000Z
DTSTAMP:20110211T050000Z
SUMMARY:New Parent Orientation
DESCRIPTION:This evening is for parents new to Greene Towne School.
LOCATION:
UID:380
END:VEVENT
END:VCALENDAR