BEGIN:VCALENDAR
PRODID:-//punkave//apostrophe 1.x//EN
VERSION:1.0
TZ:0
BEGIN:VEVENT
CATEGORIES:MEETING
DTSTART:20110514T150000Z
DTEND:20110514T180000Z
DTSTAMP:20110211T050000Z
SUMMARY:Spring Picnic *UPDATE* Postponed
DESCRIPTION:POSTPONED! Rain date May 21.
LOCATION:
UID:381
END:VEVENT
END:VCALENDAR