BEGIN:VCALENDAR
PRODID:-//punkave//apostrophe 1.x//EN
VERSION:1.0
TZ:0
BEGIN:VEVENT
CATEGORIES:MEETING
DTSTART:20110521T150000Z
DTEND:20110521T180000Z
DTSTAMP:20110516T040000Z
SUMMARY:Spring Picnic (Rain Date!)
DESCRIPTION:Join us for fun in the park! Click the poster for more details.
LOCATION:
UID:507
END:VEVENT
END:VCALENDAR