BEGIN:VCALENDAR
PRODID:-//punkave//apostrophe 1.x//EN
VERSION:1.0
TZ:0
BEGIN:VEVENT
CATEGORIES:MEETING
DTSTART:20110525T121500Z
DTEND:20110525T130000Z
DTSTAMP:20110429T040000Z
SUMMARY:Coffee for Parents of Next Year\'s K Students
DESCRIPTION:Come have some coffee and discuss the ins and outs of the K year!
LOCATION:
UID:485
END:VEVENT
END:VCALENDAR