BEGIN:VCALENDAR
PRODID:-//punkave//apostrophe 1.x//EN
VERSION:1.0
TZ:0
BEGIN:VEVENT
CATEGORIES:MEETING
DTSTART:20110527T040000Z
DTEND:20110529T165959Z
DTSTAMP:20110211T050000Z
SUMMARY:SCHOOL CLOSED: Staff In Service
DESCRIPTION:School is closed for staff in service today, no childcare or vacation care is available.
LOCATION:
UID:382
END:VEVENT
END:VCALENDAR