BEGIN:VCALENDAR
PRODID:-//punkave//apostrophe 1.x//EN
VERSION:1.0
TZ:0
BEGIN:VEVENT
CATEGORIES:MEETING
DTSTART:20110530T040000Z
DTEND:20110601T165959Z
DTSTAMP:20110211T050000Z
SUMMARY:SCHOOL CLOSED: Memorial Day
DESCRIPTION:School is closed in observance of the Memorial Day holiday.
LOCATION:
UID:383
END:VEVENT
END:VCALENDAR