BEGIN:VCALENDAR
PRODID:-//punkave//apostrophe 1.x//EN
VERSION:1.0
TZ:0
BEGIN:VEVENT
CATEGORIES:MEETING
DTSTART:20110601T153000Z
DTEND:20110602T190000Z
DTSTAMP:20101019T040000Z
SUMMARY:Kindergarten Lemonade Stand
DESCRIPTION:The Kindergarten students will be having a lemonade stand/bake sale at the 11:45 and 2:50 dismissals on 6/1 and 6/2.
LOCATION:
UID:143
END:VEVENT
END:VCALENDAR