BEGIN:VCALENDAR
PRODID:-//punkave//apostrophe 1.x//EN
VERSION:1.0
TZ:0
BEGIN:VEVENT
CATEGORIES:MEETING
DTSTART:20110608T220000Z
DTEND:20110608T230000Z
DTSTAMP:20110505T040000Z
SUMMARY:Toddler House Ice Cream Social
DESCRIPTION:Ice cream meet and greet with current and next year\'s Toddler families.
LOCATION:
UID:499
END:VEVENT
END:VCALENDAR