BEGIN:VCALENDAR
PRODID:-//punkave//apostrophe 1.x//EN
VERSION:1.0
TZ:0
BEGIN:VEVENT
CATEGORIES:MEETING
DTSTART:20110610T150000Z
DTEND:20110610T160000Z
DTSTAMP:20110211T050000Z
SUMMARY:School Closed at 11:00 - Last Day of School
DESCRIPTION:10:45-11am Parents of all non-Kindergarten students can come to the classroom to pick up their children and say goodbye to their teachers. Parents of Kindergarten students can come pick up siblings from classroom to attend Kindergarten Appreciation ceremony. 11am Dismissal from Toddler House Dismissal for all remaining students 11:15 Kindergarten Appreciation ceremony promptly begins
LOCATION:
UID:385
END:VEVENT
END:VCALENDAR