BEGIN:VCALENDAR
PRODID:-//punkave//apostrophe 1.x//EN
VERSION:1.0
TZ:0
BEGIN:VEVENT
CATEGORIES:MEETING
DTSTART:20110613T040000Z
DTEND:20110615T165959Z
DTSTAMP:20110211T050000Z
SUMMARY:Sesame Place Family Day
DESCRIPTION:Today is the Greene Towne School Family Day at Sesame Place!
LOCATION:
UID:386
END:VEVENT
END:VCALENDAR