BEGIN:VCALENDAR
PRODID:-//punkave//apostrophe 1.x//EN
VERSION:1.0
TZ:0
BEGIN:VEVENT
CATEGORIES:MEETING
DTSTART:20110620T040000Z
DTEND:20110622T165959Z
DTSTAMP:20110211T050000Z
SUMMARY:First Day of Summer Camp
DESCRIPTION:
LOCATION:
UID:387
END:VEVENT
END:VCALENDAR