BEGIN:VCALENDAR
PRODID:-//punkave//apostrophe 1.x//EN
VERSION:1.0
TZ:0
BEGIN:VEVENT
CATEGORIES:MEETING
DTSTART:20110704T040000Z
DTEND:20110706T165959Z
DTSTAMP:20110211T050000Z
SUMMARY:Camp Closed: Independence Day
DESCRIPTION:
LOCATION:
UID:388
END:VEVENT
END:VCALENDAR