BEGIN:VCALENDAR
PRODID:-//punkave//apostrophe 1.x//EN
VERSION:1.0
TZ:0
BEGIN:VEVENT
CATEGORIES:MEETING
DTSTART:20110812T040000Z
DTEND:20110814T165959Z
DTSTAMP:20110211T050000Z
SUMMARY:Last Day of Summer Camp
DESCRIPTION:Camp Closes at 3PM.
LOCATION:
UID:389
END:VEVENT
END:VCALENDAR