BEGIN:VCALENDAR
PRODID:-//punkave//apostrophe 1.x//EN
VERSION:1.0
TZ:0
BEGIN:VEVENT
CATEGORIES:MEETING
DTSTART:20110905T040000Z
DTEND:20110907T165959Z
DTSTAMP:20110804T040000Z
SUMMARY:Labor Day: School Closed
DESCRIPTION:
LOCATION:
UID:554
END:VEVENT
END:VCALENDAR