BEGIN:VCALENDAR
PRODID:-//punkave//apostrophe 1.x//EN
VERSION:1.0
TZ:0
BEGIN:VEVENT
CATEGORIES:MEETING
DTSTART:20110908T123000Z
DTEND:20110908T134500Z
DTSTAMP:20110804T040000Z
SUMMARY:Parent Coffee: Meet and Greet!
DESCRIPTION:Come meet and greet with other parents!
LOCATION:
UID:556
END:VEVENT
END:VCALENDAR