BEGIN:VCALENDAR
PRODID:-//punkave//apostrophe 1.x//EN
VERSION:1.0
TZ:0
BEGIN:VEVENT
CATEGORIES:MEETING
DTSTART:20110911T160000Z
DTEND:20110911T180000Z
DTSTAMP:20110804T040000Z
SUMMARY:Toddler House Parent Potluck and Workshop
DESCRIPTION:Come learn more about the classroom at this parent-only event.
LOCATION:
UID:557
END:VEVENT
END:VCALENDAR