BEGIN:VCALENDAR
PRODID:-//punkave//apostrophe 1.x//EN
VERSION:1.0
TZ:0
BEGIN:VEVENT
CATEGORIES:MEETING
DTSTART:20110912T230000Z
DTEND:20110912T040000Z
DTSTAMP:20110804T040000Z
SUMMARY:Board Meeting
DESCRIPTION:Board meetings are always open to GTS parents.
LOCATION:
UID:559
END:VEVENT
END:VCALENDAR