BEGIN:VCALENDAR
PRODID:-//punkave//apostrophe 1.x//EN
VERSION:1.0
TZ:0
BEGIN:VEVENT
CATEGORIES:MEETING
DTSTART:20110912T040000Z
DTEND:20110914T165959Z
DTSTAMP:20110804T040000Z
SUMMARY:First Official Day of School
DESCRIPTION:
LOCATION:
UID:558
END:VEVENT
END:VCALENDAR