BEGIN:VCALENDAR
PRODID:-//punkave//apostrophe 1.x//EN
VERSION:1.0
TZ:0
BEGIN:VEVENT
CATEGORIES:MEETING
DTSTART:20110913T220000Z
DTEND:20110914T001500Z
DTSTAMP:20110804T040000Z
SUMMARY:Anna Matsukevich Parent Potluck and Workshop
DESCRIPTION:Come learn more about the classroom at this parent-only event.
LOCATION:
UID:560
END:VEVENT
END:VCALENDAR