BEGIN:VCALENDAR
PRODID:-//punkave//apostrophe 1.x//EN
VERSION:1.0
TZ:0
BEGIN:VEVENT
CATEGORIES:MEETING
DTSTART:20110914T121500Z
DTEND:20110914T130000Z
DTSTAMP:20110804T040000Z
SUMMARY:Kindergarten Parent Coffee
DESCRIPTION:
LOCATION:
UID:561
END:VEVENT
END:VCALENDAR