BEGIN:VCALENDAR
PRODID:-//punkave//apostrophe 1.x//EN
VERSION:1.0
TZ:0
BEGIN:VEVENT
CATEGORIES:MEETING
DTSTART:20110915T220000Z
DTEND:20110916T001500Z
DTSTAMP:20110804T040000Z
SUMMARY:Jean Prestas Parent Potluck and Workshop
DESCRIPTION:Come learn more about the classroom at this parent-only event.
LOCATION:
UID:562
END:VEVENT
END:VCALENDAR