BEGIN:VCALENDAR
PRODID:-//punkave//apostrophe 1.x//EN
VERSION:1.0
TZ:0
BEGIN:VEVENT
CATEGORIES:MEETING
DTSTART:20110918T200000Z
DTEND:20110919T000000Z
DTSTAMP:20110824T040000Z
SUMMARY:Annual Logan Square Neighborhood Association Block Party
DESCRIPTION:Annual LSNA Block Party September 18th, 4pm - 8pm On Spring Street between 21st & 22nd The annual outdoor gathering for good food, good music and good fellowship.
LOCATION:
UID:647
END:VEVENT
END:VCALENDAR