BEGIN:VCALENDAR
PRODID:-//punkave//apostrophe 1.x//EN
VERSION:1.0
TZ:0
BEGIN:VEVENT
CATEGORIES:MEETING
DTSTART:20110920T220000Z
DTEND:20110921T001500Z
DTSTAMP:20110804T040000Z
SUMMARY:Michelle Pysher Parent Potluck and Workshop
DESCRIPTION:Come learn more about the classroom at this parent-only event.
LOCATION:
UID:563
END:VEVENT
END:VCALENDAR