BEGIN:VCALENDAR
PRODID:-//punkave//apostrophe 1.x//EN
VERSION:1.0
TZ:0
BEGIN:VEVENT
CATEGORIES:MEETING
DTSTART:20110923T220000Z
DTEND:20110924T000000Z
DTSTAMP:20110908T040000Z
SUMMARY:Come Sign the Philadelphia Declaration of Play!
DESCRIPTION:Friday, September 23, 2011 6:00 - 8:00pm Smith Memorial Playground & Playhouse 3504 Reservoir Drive East Fairmount Park, Philadelphia, PA 19121 Click here for more information. (Smith Playground Event)
LOCATION:
UID:648
END:VEVENT
END:VCALENDAR