BEGIN:VCALENDAR
PRODID:-//punkave//apostrophe 1.x//EN
VERSION:1.0
TZ:0
BEGIN:VEVENT
CATEGORIES:MEETING
DTSTART:20111001T150000Z
DTEND:20111001T180000Z
DTSTAMP:20110804T040000Z
SUMMARY:Fall Picnic
DESCRIPTION:Rain Date: Saturday, October 1
LOCATION:
UID:566
END:VEVENT
END:VCALENDAR