BEGIN:VCALENDAR
PRODID:-//punkave//apostrophe 1.x//EN
VERSION:1.0
TZ:0
BEGIN:VEVENT
CATEGORIES:MEETING
DTSTART:20111004T230000Z
DTEND:20111004T040000Z
DTSTAMP:20110923T040000Z
SUMMARY:Auction Meeting
DESCRIPTION:
LOCATION:
UID:679
END:VEVENT
END:VCALENDAR