BEGIN:VCALENDAR
PRODID:-//punkave//apostrophe 1.x//EN
VERSION:1.0
TZ:0
BEGIN:VEVENT
CATEGORIES:MEETING
DTSTART:20111006T121500Z
DTEND:20111006T130000Z
DTSTAMP:20110804T040000Z
SUMMARY:First Thursday Coffee with Helena Grady
DESCRIPTION:Subject: Observations and Conferences Every First Thursday of the month, discuss a new subject in a relaxed group forum with Helena Grady, Head of School!
LOCATION:
UID:567
END:VEVENT
END:VCALENDAR