BEGIN:VCALENDAR
PRODID:-//punkave//apostrophe 1.x//EN
VERSION:1.0
TZ:0
BEGIN:VEVENT
CATEGORIES:MEETING
DTSTART:20111011T230000Z
DTEND:20111012T003000Z
DTSTAMP:20110804T040000Z
SUMMARY:Parent Workshop: Setting Structure with Your Child
DESCRIPTION:Parent Workshop with Maria Kamenstein. Please RSVP to this parent-only evening.
LOCATION:
UID:569
END:VEVENT
END:VCALENDAR