BEGIN:VCALENDAR
PRODID:-//punkave//apostrophe 1.x//EN
VERSION:1.0
TZ:0
BEGIN:VEVENT
CATEGORIES:MEETING
DTSTART:20111013T121500Z
DTEND:20111013T130000Z
DTSTAMP:20110804T040000Z
SUMMARY:Coffee with Anna Matsukevich
DESCRIPTION:Come enjoy coffee and refreshments with Ms. Matsukevich!
LOCATION:
UID:570
END:VEVENT
END:VCALENDAR