BEGIN:VCALENDAR
PRODID:-//punkave//apostrophe 1.x//EN
VERSION:1.0
TZ:0
BEGIN:VEVENT
CATEGORIES:MEETING
DTSTART:20111013T213000Z
DTEND:20111013T230000Z
DTSTAMP:20111005T040000Z
SUMMARY:Kindergarten Year Workshop
DESCRIPTION:An inside look into the Kindergarten year for next year\'s K students (or any primary student.) Don\'t forget to RSVP, and child care is available!
LOCATION:
UID:705
END:VEVENT
END:VCALENDAR