BEGIN:VCALENDAR
PRODID:-//punkave//apostrophe 1.x//EN
VERSION:1.0
TZ:0
BEGIN:VEVENT
CATEGORIES:MEETING
DTSTART:20111018T121500Z
DTEND:20111018T130000Z
DTSTAMP:20110804T040000Z
SUMMARY:Coffee with Jean Prestas
DESCRIPTION:Come enjoy coffee and refreshments with Ms. Prestas!
LOCATION:
UID:572
END:VEVENT
END:VCALENDAR